BEGIN:VCALENDAR
VERSION:2.0
PRODID:-//Minnestar - ECPv6.14.2//NONSGML v1.0//EN
CALSCALE:GREGORIAN
METHOD:PUBLISH
X-WR-CALNAME:Minnestar
X-ORIGINAL-URL:https://minnestar.org
X-WR-CALDESC:Events for Minnestar
REFRESH-INTERVAL;VALUE=DURATION:PT1H
X-Robots-Tag:noindex
X-PUBLISHED-TTL:PT1H
BEGIN:VTIMEZONE
TZID:America/Chicago
BEGIN:DAYLIGHT
TZOFFSETFROM:-0600
TZOFFSETTO:-0500
TZNAME:CDT
DTSTART:20250309T080000
END:DAYLIGHT
BEGIN:STANDARD
TZOFFSETFROM:-0500
TZOFFSETTO:-0600
TZNAME:CST
DTSTART:20251102T070000
END:STANDARD
END:VTIMEZONE
BEGIN:VEVENT
DTSTART;TZID=America/Chicago:20250628T100000
DTEND;TZID=America/Chicago:20250628T140000
DTSTAMP:20260421T033719
CREATED:20250605T230947Z
LAST-MODIFIED:20250628T005515Z
UID:10000031-1751104800-1751119200@minnestar.org
SUMMARY:IGDA Twin Cities Summer Potluck!
DESCRIPTION:Join us for a wonderful afternoon of food\, games\, and conversation with fellow Twin Cities game developers and interactive artists!\n\n\nBring your favorite dish out this Summer! \nIGDA Twin Cities is hosting a potluck Saturday June 28th\, 10am-2pm at Fern Hill Park for the community and any other creatives interested in mingling!!! We encourage you to bring your significant others and children\, too! We’ll kick back\, play some games\, and enjoy each other’s company for a (hopefully) beautiful afternoon! \nIf you’re able\, please bring some food and/or beverages to share– we’ll provide some food and beverages for everyone to enjoy\, but we’d love to see what you have to offer! We’ll also bring a few games\, but feel free to bring any of your own board/lawn games to play! \nRSVP And Tell Us What You’re Bringing HERE!\n \nWe look forward to seeing you all there!
URL:https://minnestar.org/calendar2/igda-twin-cities-summer-potluck/
LOCATION:Fern Hill Park\, 4421 West 28th Street\, St. Louis Park\, MN\, 55416\, United States
ATTACH;FMTTYPE=image/jpeg:https://minnestar.org/wp-content/uploads/2025/06/9f46061c802385eac8db86280e71d8d9.jpg
END:VEVENT
BEGIN:VEVENT
DTSTART;TZID=America/Chicago:20250625T183000
DTEND;TZID=America/Chicago:20250625T213000
DTSTAMP:20260421T033719
CREATED:20250617T235304Z
LAST-MODIFIED:20250617T235304Z
UID:10000034-1750876200-1750887000@minnestar.org
SUMMARY:MN VR and HCI June: 2025: Spiders
DESCRIPTION:MN VR and HCI monthly meeting for June 2025: Spiders for Quest\, AWE and WWDC recaps\n\n\nMaking a market-friendly Spider – RJ White \nEarlier this year in a quick and dirty development cycle\, I developed a concept for a multiplayer VR game in a month\, and had 50\,000+ players less than a month after launch. I’ll be talking about this game\, simply called “Spiders”. \nI’ll talk in detail about : \n\nStarting from scratch\, kitbashing\, and using existing tools to speed up development\n“Gorilla locomotion”\, a popular and trendy movement mechanic\, applied to the concept\nMarketing and getting the name out there when there’s little hope for natural discovery or store exposure on the Meta Quest platform nowadays\n\nCome listen and ask questions! Try Spiders for free on Quest. \n \nAWE and WWDC recap – Amir Berenjian and Zach Wendt \nWe’ll also have a quick overview of going to Augmented World Expo by Amir (live or by proxy) and AR/VR announcements from Apple’s World Wide Developer Conference by Zach. Feel free to add any cool product or software announcements – especially you Vision Pro owners! \n \nSchedule: \n\n6:30 Social and setup\n7:00 Kickoff / announcements\n7:15 Amir and Zach\n7:30 RJ\n~8:30 Tear-down\, cross the sidewalk to Yardhouse\n\nAttending: \nThis event will be in person at the REM5 STUDIOS new office in West End\, and live streamed on https://www.youtube.com/igdatc \nPark underground and take the central red elevator to ground level\, then cross the sidewalk. REM5 STUDIOS is across from Yardhouse. Map below. \n \nAbout MN VR and HCI: \nMN VR and HCI (Human-Computer Interaction) welcomes developers\, tinkerers and enthusiasts working with all variety of VR\, AR\, HCI\, hardware hacking\, creative coding and interactive art. Members are working on projects with custom displays and lenses\, projection mapping\, mocap\, tiny computers\, servos and sensors\, interactive art and a wide variety of VR\, AR\, motion and computer vision applications. If you’ve only been to our parent group IGDATC meetings\, MN VR and HCI is a slightly different format: We aim for smaller group discussions and lots of specific details.
URL:https://minnestar.org/calendar2/mn-vr-and-hci-june-2025-spiders-2/
LOCATION:REM5 STUDIOS\, 1639 Park Place Boulevard\, St. Louis Park\, MN\, 55416\, United States
ATTACH;FMTTYPE=image/jpeg:https://minnestar.org/wp-content/uploads/2025/06/fce284cb5616eb35c08674c614cf0328.jpg
END:VEVENT
BEGIN:VEVENT
DTSTART;TZID=America/Chicago:20250625T183000
DTEND;TZID=America/Chicago:20250625T213000
DTSTAMP:20260421T033719
CREATED:20250617T235257Z
LAST-MODIFIED:20250626T003858Z
UID:10000033-1750876200-1750887000@minnestar.org
SUMMARY:MN VR and HCI June: 2025: Spiders
DESCRIPTION:MN VR and HCI monthly meeting for June 2025: Spiders for Quest\, AWE and WWDC recaps\n\n\nMaking a market-friendly Spider – RJ White \nEarlier this year in a quick and dirty development cycle\, I developed a concept for a multiplayer VR game in a month\, and had 50\,000+ players less than a month after launch. I’ll be talking about this game\, simply called “Spiders”. \nI’ll talk in detail about : \n\nStarting from scratch\, kitbashing\, and using existing tools to speed up development\n“Gorilla locomotion”\, a popular and trendy movement mechanic\, applied to the concept\nMarketing and getting the name out there when there’s little hope for natural discovery or store exposure on the Meta Quest platform nowadays\n\nCome listen and ask questions! Try Spiders for free on Quest. \n \nAWE and WWDC recap – Amir Berenjian and Zach Wendt \nWe’ll also have a quick overview of going to Augmented World Expo by Amir (live or by proxy) and AR/VR announcements from Apple’s World Wide Developer Conference by Zach. Feel free to add any cool product or software announcements – especially you Vision Pro owners! \n \nSchedule: \n\n6:30 Social and setup\n7:00 Kickoff / announcements\n7:15 Amir and Zach\n7:30 RJ\n~8:30 Tear-down\, cross the sidewalk to Yardhouse\n\nAttending: \nThis event will be in person at the REM5 STUDIOS new office in West End\, and live streamed on https://www.youtube.com/igdatc \nPark underground and take the central red elevator to ground level\, then cross the sidewalk. REM5 STUDIOS is across from Yardhouse. Map below. \n \nAbout MN VR and HCI: \nMN VR and HCI (Human-Computer Interaction) welcomes developers\, tinkerers and enthusiasts working with all variety of VR\, AR\, HCI\, hardware hacking\, creative coding and interactive art. Members are working on projects with custom displays and lenses\, projection mapping\, mocap\, tiny computers\, servos and sensors\, interactive art and a wide variety of VR\, AR\, motion and computer vision applications. If you’ve only been to our parent group IGDATC meetings\, MN VR and HCI is a slightly different format: We aim for smaller group discussions and lots of specific details.
URL:https://minnestar.org/calendar2/mn-vr-and-hci-june-2025-spiders/
LOCATION:REM5 STUDIOS\, 1639 Park Place Boulevard\, St. Louis Park\, MN\, 55416\, United States
ATTACH;FMTTYPE=image/jpeg:https://minnestar.org/wp-content/uploads/2025/06/fce284cb5616eb35c08674c614cf0328.jpg
END:VEVENT
BEGIN:VEVENT
DTSTART;TZID=America/Chicago:20250625T113000
DTEND;TZID=America/Chicago:20250625T130000
DTSTAMP:20260421T033719
CREATED:20250525T210644Z
LAST-MODIFIED:20250525T210733Z
UID:10000025-1750851000-1750856400@minnestar.org
SUMMARY:Strengthen the Strong - June 25th
DESCRIPTION:Gathering change-makers to form fresh relationships & foster a stronger and more prosperous community in the Twin Cities!\n\n\nWHEN: Wednesday\, June 25th\, 11:30am-1pm \nWHERE: Osborn 370\, 370 Wabasha Street N\, Saint Paul MN 55102 (Floor 4) \n \nTHE EXPERIENCE \nNo agenda. \nNo dress code. \nArrive when you can\, leave when you need. \n \n*Just a little heads-up: while the community and connection are endless\, our food supply isn’t! Be an early bird and snag your plate of our delicious spread! Can’t wait to see you there!
URL:https://minnestar.org/calendar2/strengthen-the-strong-june-25th/
LOCATION:370 Wabasha St N\, 370 Wabasha Street North\, Saint Paul\, MN\, 55102\, United States
CATEGORIES:Networking
ATTACH;FMTTYPE=image/jpeg:https://minnestar.org/wp-content/uploads/2025/05/3ac90d3c02695e12122983b19c227079.jpg
END:VEVENT
BEGIN:VEVENT
DTSTART;TZID=America/Chicago:20250618T183000
DTEND;TZID=America/Chicago:20250618T213000
DTSTAMP:20260421T033719
CREATED:20250525T210343Z
LAST-MODIFIED:20250618T235307Z
UID:10000026-1750271400-1750282200@minnestar.org
SUMMARY:Twin Cities Playtest
DESCRIPTION:Hosted by IGDA Twin Cities\, an evening of in-development games hosted at Noble Robot and streamed on YouTube!
URL:https://minnestar.org/calendar2/twin-cities-playtest/
LOCATION:Noble Robot\, 326 East Hennepin Avenue\, #206\, Minneapolis\, MN\, 55414\, United States
ATTACH;FMTTYPE=image/jpeg:https://minnestar.org/wp-content/uploads/2025/05/34760a8423f837ff6b4aeacbfacbc5fd-1.jpg
END:VEVENT
BEGIN:VEVENT
DTSTART;TZID=America/Chicago:20250529T080000
DTEND;TZID=America/Chicago:20250529T180000
DTSTAMP:20260421T033719
CREATED:20250526T211023Z
LAST-MODIFIED:20250529T214007Z
UID:10000030-1748505600-1748541600@minnestar.org
SUMMARY:2025 Open Source North Conference
DESCRIPTION:Welcome to the 10th Open Source North Conference — a gathering of open source enterprise developers and industry experts.\n\n\nSince 2015 the Open Source North Conference has brought together the open source and enterprise application development community. For 2025\, we are back at the beautiful and spacious University of St. Thomas (St. Paul campus) to bring the OSN community together to learn\, share\, and connect™. For more details – https://opensourcenorth.com/. \n#osn2025 will be on Thursday\, May 29. We are planning for 1\,300+ attendees! \nEarly Bird registration opens on Monday\, March 24.
URL:https://minnestar.org/calendar2/2025-open-source-north-conference/
LOCATION:University of St. Thomas / Anderson Athletic & Recreation Complex\, 2115 Summit Avenue\, Saint Paul\, MN\, 55105\, United States
ATTACH;FMTTYPE=image/jpeg:https://minnestar.org/wp-content/uploads/2025/05/7fc4bf1cf45aeee66c385e209c30daef-1.jpg
END:VEVENT
BEGIN:VEVENT
DTSTART;TZID=America/Chicago:20250528T183000
DTEND;TZID=America/Chicago:20250528T213000
DTSTAMP:20260421T033719
CREATED:20250525T210357Z
LAST-MODIFIED:20250528T215538Z
UID:10000029-1748457000-1748467800@minnestar.org
SUMMARY:MN VR and HCI May 2025: Quest 3 MR For Reals
DESCRIPTION:MN VR and HCI monthly meeting for May 2025: Quest 3 MR For Reals\n\n\nQuest 3 MR For Reals – Zach Wendt \nQuest has steadily gained MR/AR features over the last year\, and now has nearly the full feature set of Apple Vision Pro / HoloLens. Even without the full performance of those $4k headsets\, this allows for some genuine MR/AR experiences (unlike the past era of background passthrough in a pre-scanned room.) \n \nThis example-heavy overview will cover: \n\nThe new Quest camera access API – capabilities\, limitations\, great developer prototypes\, and what’s in the Quest store so far\nThe Boundary APIs and recent OS changes around boundaries\nDepth API and MRUK updates for real-world raycasting\nDevs using the Depth API as a workaround for (not yet released) continuous world mesh scanning\nA quick overview of the new and improved options for sharing spatial anchors\nBonus: Quick summary of what was/wasn’t revealed about Android XR at Google I/O\n\n \nSchedule: \n\n6:30 Social and setup\n7:00 Kickoff / announcements\n7:15 Zach Wendt\n~8:30 Tear-down\, cross the sidewalk to Yardhouse\n\n \nAttending: \nThis event will be in person at the REM5 STUDIOS new office in West End\, and live streamed on https://www.youtube.com/igdatc \nPark underground and take the central red elevator to ground level\, then cross the outdoor walkway. REM5 STUDIOS is across the sidewalk from Yardhouse. Map below. \n \nAbout MN VR and HCI: \nMN VR and HCI (Human-Computer Interaction) welcomes developers\, tinkerers and enthusiasts working with all variety of VR\, AR\, HCI\, hardware hacking\, creative coding and interactive art. Members are working on projects with custom displays and lenses\, projection mapping\, mocap\, tiny computers\, servos and sensors\, interactive art and a wide variety of VR\, AR\, motion and computer vision applications. If you’ve only been to our parent group IGDATC meetings\, MN VR and HCI is a slightly different format: We aim for smaller group discussions and lots of specific details.
URL:https://minnestar.org/calendar2/mn-vr-and-hci-may-2025-quest-3-mr-for-reals/
LOCATION:REM5 STUDIOS\, 1639 Park Place Boulevard\, St. Louis Park\, MN\, 55416\, United States
ATTACH;FMTTYPE=image/jpeg:https://minnestar.org/wp-content/uploads/2025/05/4ce287174f517af4669b3488b7670cbc.jpg
END:VEVENT
END:VCALENDAR