BEGIN:VCALENDAR
VERSION:2.0
PRODID:-//Minnestar - ECPv6.14.2//NONSGML v1.0//EN
CALSCALE:GREGORIAN
METHOD:PUBLISH
X-WR-CALNAME:Minnestar
X-ORIGINAL-URL:https://minnestar.org
X-WR-CALDESC:Events for Minnestar
REFRESH-INTERVAL;VALUE=DURATION:PT1H
X-Robots-Tag:noindex
X-PUBLISHED-TTL:PT1H
BEGIN:VTIMEZONE
TZID:America/Chicago
BEGIN:DAYLIGHT
TZOFFSETFROM:-0600
TZOFFSETTO:-0500
TZNAME:CDT
DTSTART:20260308T080000
END:DAYLIGHT
BEGIN:STANDARD
TZOFFSETFROM:-0500
TZOFFSETTO:-0600
TZNAME:CST
DTSTART:20261101T070000
END:STANDARD
END:VTIMEZONE
BEGIN:VEVENT
DTSTART;TZID=America/Chicago:20260701T183000
DTEND;TZID=America/Chicago:20260701T213000
DTSTAMP:20260425T053323
CREATED:20251117T190931Z
LAST-MODIFIED:20260424T175442Z
UID:10000119-1782930600-1782941400@minnestar.org
SUMMARY:Jam Night!
DESCRIPTION:An open co-working night for creatives of all types! Bring something to work on\, and enjoy the company of designers\, developers\, and more!
URL:https://minnestar.org/calendar2/jam-night-10/
LOCATION:Noble Robot\, 326 East Hennepin Avenue\, #206\, Minneapolis\, MN\, 55414\, United States
ATTACH;FMTTYPE=image/jpeg:https://minnestar.org/wp-content/uploads/2025/11/cd7ef490d8fc3242f1f36d9ed93137a2.jpg
END:VEVENT
BEGIN:VEVENT
DTSTART;TZID=America/Chicago:20260701T183000
DTEND;TZID=America/Chicago:20260701T213000
DTSTAMP:20260425T053323
CREATED:20251117T190935Z
LAST-MODIFIED:20251117T190935Z
UID:10000121-1782930600-1782941400@minnestar.org
SUMMARY:Jam Night!
DESCRIPTION:An open co-working night for creatives of all types! Bring something to work on\, and enjoy the company of designers\, developers\, and more!
URL:https://minnestar.org/calendar2/jam-night-12/
LOCATION:Noble Robot\, 326 East Hennepin Avenue\, #206\, Minneapolis\, MN\, 55414\, United States
ATTACH;FMTTYPE=image/jpeg:https://minnestar.org/wp-content/uploads/2025/11/cd7ef490d8fc3242f1f36d9ed93137a2.jpg
END:VEVENT
BEGIN:VEVENT
DTSTART;TZID=America/Chicago:20260709T183000
DTEND;TZID=America/Chicago:20260709T213000
DTSTAMP:20260425T053323
CREATED:20251113T182432Z
LAST-MODIFIED:20260424T175440Z
UID:10000094-1783621800-1783632600@minnestar.org
SUMMARY:Game.wav Audio Meetup
DESCRIPTION:Discussions and deep dives on game audio.
URL:https://minnestar.org/calendar2/game-wav-audio-meetup-january-2026-7/
LOCATION:13100 College View Dr room h183\, 13100 College View Drive\, #room h183\, Eden Prairie\, MN\, 55347\, United States
ATTACH;FMTTYPE=image/jpeg:https://minnestar.org/wp-content/uploads/2025/11/b0b24382f44a37a69ad4313d82ceae78.jpg
END:VEVENT
BEGIN:VEVENT
DTSTART;TZID=America/Chicago:20260715T183000
DTEND;TZID=America/Chicago:20260715T213000
DTSTAMP:20260425T053324
CREATED:20251111T180735Z
LAST-MODIFIED:20260424T175440Z
UID:10000072-1784140200-1784151000@minnestar.org
SUMMARY:Twin Cities Playtest
DESCRIPTION:Hosted by IGDA Twin Cities\, an evening of in-development games hosted at Noble Robot and streamed on YouTube!
URL:https://minnestar.org/calendar2/twin-cities-playtest-12/
LOCATION:Noble Robot\, 326 East Hennepin Avenue\, #206\, Minneapolis\, MN\, 55414\, United States
ATTACH;FMTTYPE=image/jpeg:https://minnestar.org/wp-content/uploads/2025/05/34760a8423f837ff6b4aeacbfacbc5fd-1.jpg
END:VEVENT
END:VCALENDAR