BEGIN:VCALENDAR
VERSION:2.0
PRODID:-//Minnestar - ECPv6.14.2//NONSGML v1.0//EN
CALSCALE:GREGORIAN
METHOD:PUBLISH
X-ORIGINAL-URL:https://minnestar.org
X-WR-CALDESC:Events for Minnestar
REFRESH-INTERVAL;VALUE=DURATION:PT1H
X-Robots-Tag:noindex
X-PUBLISHED-TTL:PT1H
BEGIN:VTIMEZONE
TZID:America/Chicago
BEGIN:DAYLIGHT
TZOFFSETFROM:-0600
TZOFFSETTO:-0500
TZNAME:CDT
DTSTART:20260308T080000
END:DAYLIGHT
BEGIN:STANDARD
TZOFFSETFROM:-0500
TZOFFSETTO:-0600
TZNAME:CST
DTSTART:20261101T070000
END:STANDARD
END:VTIMEZONE
BEGIN:VEVENT
DTSTART;TZID=America/Chicago:20260409T183000
DTEND;TZID=America/Chicago:20260409T213000
DTSTAMP:20260423T053518
CREATED:20251113T182416Z
LAST-MODIFIED:20260409T162257Z
UID:10000091-1775759400-1775770200@minnestar.org
SUMMARY:Game.wav Audio Meetup
DESCRIPTION:Discussions and deep dives on game audio.
URL:https://minnestar.org/calendar2/game-wav-audio-meetup-january-2026-4/
LOCATION:13100 College View Dr room h183\, 13100 College View Drive\, #room h183\, Eden Prairie\, MN\, 55347\, United States
ATTACH;FMTTYPE=image/jpeg:https://minnestar.org/wp-content/uploads/2025/11/b0b24382f44a37a69ad4313d82ceae78.jpg
END:VEVENT
BEGIN:VEVENT
DTSTART;TZID=America/Chicago:20260312T183000
DTEND;TZID=America/Chicago:20260312T213000
DTSTAMP:20260423T053518
CREATED:20251113T182414Z
LAST-MODIFIED:20260312T130754Z
UID:10000090-1773340200-1773351000@minnestar.org
SUMMARY:Game.wav Audio Meetup
DESCRIPTION:Discussions and deep dives on game audio.
URL:https://minnestar.org/calendar2/game-wav-audio-meetup-january-2026-3/
LOCATION:13100 College View Dr room h183\, 13100 College View Drive\, #room h183\, Eden Prairie\, MN\, 55347\, United States
ATTACH;FMTTYPE=image/jpeg:https://minnestar.org/wp-content/uploads/2025/11/b0b24382f44a37a69ad4313d82ceae78.jpg
END:VEVENT
BEGIN:VEVENT
DTSTART;TZID=America/Chicago:20260212T183000
DTEND;TZID=America/Chicago:20260212T213000
DTSTAMP:20260423T053518
CREATED:20251113T182413Z
LAST-MODIFIED:20260212T112331Z
UID:10000089-1770921000-1770931800@minnestar.org
SUMMARY:Game.wav Audio Meetup
DESCRIPTION:Discussions and deep dives on game audio.
URL:https://minnestar.org/calendar2/game-wav-audio-meetup-january-2026-2/
LOCATION:13100 College View Dr room h183\, 13100 College View Drive\, #room h183\, Eden Prairie\, MN\, 55347\, United States
ATTACH;FMTTYPE=image/jpeg:https://minnestar.org/wp-content/uploads/2025/11/b0b24382f44a37a69ad4313d82ceae78.jpg
END:VEVENT
BEGIN:VEVENT
DTSTART;TZID=America/Chicago:20260115T183000
DTEND;TZID=America/Chicago:20260115T213000
DTSTAMP:20260423T053518
CREATED:20260114T085302Z
LAST-MODIFIED:20260115T085527Z
UID:10000143-1768501800-1768512600@minnestar.org
SUMMARY:Game.wav Audio Meetup
DESCRIPTION:Discussions and deep dives on game audio.
URL:https://minnestar.org/calendar2/game-wav-audio-meetup/
LOCATION:13100 College View Dr room h183\, 13100 College View Drive\, #room h183\, Eden Prairie\, MN\, 55347\, United States
ATTACH;FMTTYPE=image/jpeg:https://minnestar.org/wp-content/uploads/2025/11/b0b24382f44a37a69ad4313d82ceae78.jpg
END:VEVENT
BEGIN:VEVENT
DTSTART;TZID=America/Chicago:20260108T183000
DTEND;TZID=America/Chicago:20260108T213000
DTSTAMP:20260423T053518
CREATED:20251113T182402Z
LAST-MODIFIED:20260108T081017Z
UID:10000088-1767897000-1767907800@minnestar.org
SUMMARY:Game.wav Audio Meetup\, January 2026
DESCRIPTION:Discussions and deep dives on game audio.
URL:https://minnestar.org/calendar2/game-wav-audio-meetup-january-2026/
LOCATION:13100 College View Dr room h183\, 13100 College View Drive\, #room h183\, Eden Prairie\, MN\, 55347\, United States
ATTACH;FMTTYPE=image/jpeg:https://minnestar.org/wp-content/uploads/2025/11/b0b24382f44a37a69ad4313d82ceae78.jpg
END:VEVENT
END:VCALENDAR