BEGIN:VCALENDAR
VERSION:2.0
PRODID:-//Minnestar - ECPv6.14.2//NONSGML v1.0//EN
CALSCALE:GREGORIAN
METHOD:PUBLISH
X-ORIGINAL-URL:https://minnestar.org
X-WR-CALDESC:Events for Minnestar
REFRESH-INTERVAL;VALUE=DURATION:PT1H
X-Robots-Tag:noindex
X-PUBLISHED-TTL:PT1H
BEGIN:VTIMEZONE
TZID:America/Chicago
BEGIN:DAYLIGHT
TZOFFSETFROM:-0600
TZOFFSETTO:-0500
TZNAME:CDT
DTSTART:20260308T080000
END:DAYLIGHT
BEGIN:STANDARD
TZOFFSETFROM:-0500
TZOFFSETTO:-0600
TZNAME:CST
DTSTART:20261101T070000
END:STANDARD
BEGIN:DAYLIGHT
TZOFFSETFROM:-0600
TZOFFSETTO:-0500
TZNAME:CDT
DTSTART:20270314T080000
END:DAYLIGHT
BEGIN:STANDARD
TZOFFSETFROM:-0500
TZOFFSETTO:-0600
TZNAME:CST
DTSTART:20271107T070000
END:STANDARD
END:VTIMEZONE
BEGIN:VEVENT
DTSTART;TZID=America/Chicago:20260514T183000
DTEND;TZID=America/Chicago:20260514T213000
DTSTAMP:20260419T103155
CREATED:20251113T182417Z
LAST-MODIFIED:20260418T175251Z
UID:10000092-1778783400-1778794200@minnestar.org
SUMMARY:Game.wav Audio Meetup
DESCRIPTION:Discussions and deep dives on game audio.
URL:https://minnestar.org/calendar2/game-wav-audio-meetup-january-2026-5/
LOCATION:13100 College View Dr room h183\, 13100 College View Drive\, #room h183\, Eden Prairie\, MN\, 55347\, United States
ATTACH;FMTTYPE=image/jpeg:https://minnestar.org/wp-content/uploads/2025/11/b0b24382f44a37a69ad4313d82ceae78.jpg
END:VEVENT
BEGIN:VEVENT
DTSTART;TZID=America/Chicago:20260611T183000
DTEND;TZID=America/Chicago:20260611T213000
DTSTAMP:20260419T103155
CREATED:20251113T182420Z
LAST-MODIFIED:20260418T175251Z
UID:10000093-1781202600-1781213400@minnestar.org
SUMMARY:Game.wav Audio Meetup
DESCRIPTION:Discussions and deep dives on game audio.
URL:https://minnestar.org/calendar2/game-wav-audio-meetup-january-2026-6/
LOCATION:13100 College View Dr room h183\, 13100 College View Drive\, #room h183\, Eden Prairie\, MN\, 55347\, United States
ATTACH;FMTTYPE=image/jpeg:https://minnestar.org/wp-content/uploads/2025/11/b0b24382f44a37a69ad4313d82ceae78.jpg
END:VEVENT
BEGIN:VEVENT
DTSTART;TZID=America/Chicago:20260709T183000
DTEND;TZID=America/Chicago:20260709T213000
DTSTAMP:20260419T103155
CREATED:20251113T182432Z
LAST-MODIFIED:20260418T175251Z
UID:10000094-1783621800-1783632600@minnestar.org
SUMMARY:Game.wav Audio Meetup
DESCRIPTION:Discussions and deep dives on game audio.
URL:https://minnestar.org/calendar2/game-wav-audio-meetup-january-2026-7/
LOCATION:13100 College View Dr room h183\, 13100 College View Drive\, #room h183\, Eden Prairie\, MN\, 55347\, United States
ATTACH;FMTTYPE=image/jpeg:https://minnestar.org/wp-content/uploads/2025/11/b0b24382f44a37a69ad4313d82ceae78.jpg
END:VEVENT
BEGIN:VEVENT
DTSTART;TZID=America/Chicago:20260813T183000
DTEND;TZID=America/Chicago:20260813T213000
DTSTAMP:20260419T103155
CREATED:20251113T182436Z
LAST-MODIFIED:20260418T175251Z
UID:10000095-1786645800-1786656600@minnestar.org
SUMMARY:Game.wav Audio Meetup
DESCRIPTION:Discussions and deep dives on game audio.
URL:https://minnestar.org/calendar2/game-wav-audio-meetup-january-2026-8/
LOCATION:13100 College View Dr room h183\, 13100 College View Drive\, #room h183\, Eden Prairie\, MN\, 55347\, United States
ATTACH;FMTTYPE=image/jpeg:https://minnestar.org/wp-content/uploads/2025/11/b0b24382f44a37a69ad4313d82ceae78.jpg
END:VEVENT
BEGIN:VEVENT
DTSTART;TZID=America/Chicago:20260910T183000
DTEND;TZID=America/Chicago:20260910T213000
DTSTAMP:20260419T103155
CREATED:20251113T182437Z
LAST-MODIFIED:20260418T175251Z
UID:10000096-1789065000-1789075800@minnestar.org
SUMMARY:Game.wav Audio Meetup
DESCRIPTION:Discussions and deep dives on game audio.
URL:https://minnestar.org/calendar2/game-wav-audio-meetup-january-2026-9/
LOCATION:13100 College View Dr room h183\, 13100 College View Drive\, #room h183\, Eden Prairie\, MN\, 55347\, United States
ATTACH;FMTTYPE=image/jpeg:https://minnestar.org/wp-content/uploads/2025/11/b0b24382f44a37a69ad4313d82ceae78.jpg
END:VEVENT
BEGIN:VEVENT
DTSTART;TZID=America/Chicago:20261008T183000
DTEND;TZID=America/Chicago:20261008T213000
DTSTAMP:20260419T103155
CREATED:20251113T182438Z
LAST-MODIFIED:20260418T175252Z
UID:10000097-1791484200-1791495000@minnestar.org
SUMMARY:Game.wav Audio Meetup
DESCRIPTION:Discussions and deep dives on game audio.
URL:https://minnestar.org/calendar2/game-wav-audio-meetup-january-2026-10/
LOCATION:13100 College View Dr room h183\, 13100 College View Drive\, #room h183\, Eden Prairie\, MN\, 55347\, United States
ATTACH;FMTTYPE=image/jpeg:https://minnestar.org/wp-content/uploads/2025/11/b0b24382f44a37a69ad4313d82ceae78.jpg
END:VEVENT
BEGIN:VEVENT
DTSTART;TZID=America/Chicago:20261112T183000
DTEND;TZID=America/Chicago:20261112T213000
DTSTAMP:20260419T103155
CREATED:20251113T182440Z
LAST-MODIFIED:20260418T175252Z
UID:10000098-1794508200-1794519000@minnestar.org
SUMMARY:Game.wav Audio Meetup
DESCRIPTION:Discussions and deep dives on game audio.
URL:https://minnestar.org/calendar2/game-wav-audio-meetup-january-2026-11/
LOCATION:13100 College View Dr room h183\, 13100 College View Drive\, #room h183\, Eden Prairie\, MN\, 55347\, United States
ATTACH;FMTTYPE=image/jpeg:https://minnestar.org/wp-content/uploads/2025/11/b0b24382f44a37a69ad4313d82ceae78.jpg
END:VEVENT
BEGIN:VEVENT
DTSTART;TZID=America/Chicago:20270114T183000
DTEND;TZID=America/Chicago:20270114T213000
DTSTAMP:20260419T103155
CREATED:20251113T182441Z
LAST-MODIFIED:20260418T175252Z
UID:10000099-1799951400-1799962200@minnestar.org
SUMMARY:Game.wav Audio Meetup
DESCRIPTION:Discussions and deep dives on game audio.
URL:https://minnestar.org/calendar2/game-wav-audio-meetup-january-2026-12/
LOCATION:13100 College View Dr room h183\, 13100 College View Drive\, #room h183\, Eden Prairie\, MN\, 55347\, United States
ATTACH;FMTTYPE=image/jpeg:https://minnestar.org/wp-content/uploads/2025/11/b0b24382f44a37a69ad4313d82ceae78.jpg
END:VEVENT
BEGIN:VEVENT
DTSTART;TZID=America/Chicago:20270211T183000
DTEND;TZID=America/Chicago:20270211T213000
DTSTAMP:20260419T103155
CREATED:20251113T182442Z
LAST-MODIFIED:20260418T175252Z
UID:10000100-1802370600-1802381400@minnestar.org
SUMMARY:Game.wav Audio Meetup
DESCRIPTION:Discussions and deep dives on game audio.
URL:https://minnestar.org/calendar2/game-wav-audio-meetup-january-2026-13/
LOCATION:13100 College View Dr room h183\, 13100 College View Drive\, #room h183\, Eden Prairie\, MN\, 55347\, United States
ATTACH;FMTTYPE=image/jpeg:https://minnestar.org/wp-content/uploads/2025/11/b0b24382f44a37a69ad4313d82ceae78.jpg
END:VEVENT
BEGIN:VEVENT
DTSTART;TZID=America/Chicago:20270311T183000
DTEND;TZID=America/Chicago:20270311T213000
DTSTAMP:20260419T103155
CREATED:20251113T182443Z
LAST-MODIFIED:20260418T175252Z
UID:10000101-1804789800-1804800600@minnestar.org
SUMMARY:Game.wav Audio Meetup
DESCRIPTION:Discussions and deep dives on game audio.
URL:https://minnestar.org/calendar2/game-wav-audio-meetup-january-2026-14/
LOCATION:13100 College View Dr room h183\, 13100 College View Drive\, #room h183\, Eden Prairie\, MN\, 55347\, United States
ATTACH;FMTTYPE=image/jpeg:https://minnestar.org/wp-content/uploads/2025/11/b0b24382f44a37a69ad4313d82ceae78.jpg
END:VEVENT
BEGIN:VEVENT
DTSTART;TZID=America/Chicago:20270408T183000
DTEND;TZID=America/Chicago:20270408T213000
DTSTAMP:20260419T103155
CREATED:20251113T182445Z
LAST-MODIFIED:20260418T175252Z
UID:10000102-1807209000-1807219800@minnestar.org
SUMMARY:Game.wav Audio Meetup
DESCRIPTION:Discussions and deep dives on game audio.
URL:https://minnestar.org/calendar2/game-wav-audio-meetup-january-2026-15/
LOCATION:13100 College View Dr room h183\, 13100 College View Drive\, #room h183\, Eden Prairie\, MN\, 55347\, United States
ATTACH;FMTTYPE=image/jpeg:https://minnestar.org/wp-content/uploads/2025/11/b0b24382f44a37a69ad4313d82ceae78.jpg
END:VEVENT
BEGIN:VEVENT
DTSTART;TZID=America/Chicago:20270513T183000
DTEND;TZID=America/Chicago:20270513T213000
DTSTAMP:20260419T103155
CREATED:20251113T182446Z
LAST-MODIFIED:20260418T175252Z
UID:10000103-1810233000-1810243800@minnestar.org
SUMMARY:Game.wav Audio Meetup
DESCRIPTION:Discussions and deep dives on game audio.
URL:https://minnestar.org/calendar2/game-wav-audio-meetup-january-2026-16/
LOCATION:13100 College View Dr room h183\, 13100 College View Drive\, #room h183\, Eden Prairie\, MN\, 55347\, United States
ATTACH;FMTTYPE=image/jpeg:https://minnestar.org/wp-content/uploads/2025/11/b0b24382f44a37a69ad4313d82ceae78.jpg
END:VEVENT
BEGIN:VEVENT
DTSTART;TZID=America/Chicago:20270610T183000
DTEND;TZID=America/Chicago:20270610T213000
DTSTAMP:20260419T103155
CREATED:20251113T182447Z
LAST-MODIFIED:20260418T175252Z
UID:10000104-1812652200-1812663000@minnestar.org
SUMMARY:Game.wav Audio Meetup
DESCRIPTION:Discussions and deep dives on game audio.
URL:https://minnestar.org/calendar2/game-wav-audio-meetup-january-2026-17/
LOCATION:13100 College View Dr room h183\, 13100 College View Drive\, #room h183\, Eden Prairie\, MN\, 55347\, United States
ATTACH;FMTTYPE=image/jpeg:https://minnestar.org/wp-content/uploads/2025/11/b0b24382f44a37a69ad4313d82ceae78.jpg
END:VEVENT
BEGIN:VEVENT
DTSTART;TZID=America/Chicago:20270708T183000
DTEND;TZID=America/Chicago:20270708T213000
DTSTAMP:20260419T103156
CREATED:20251113T182449Z
LAST-MODIFIED:20260418T175252Z
UID:10000105-1815071400-1815082200@minnestar.org
SUMMARY:Game.wav Audio Meetup
DESCRIPTION:Discussions and deep dives on game audio.
URL:https://minnestar.org/calendar2/game-wav-audio-meetup-january-2026-18/
LOCATION:13100 College View Dr room h183\, 13100 College View Drive\, #room h183\, Eden Prairie\, MN\, 55347\, United States
ATTACH;FMTTYPE=image/jpeg:https://minnestar.org/wp-content/uploads/2025/11/b0b24382f44a37a69ad4313d82ceae78.jpg
END:VEVENT
BEGIN:VEVENT
DTSTART;TZID=America/Chicago:20270812T183000
DTEND;TZID=America/Chicago:20270812T213000
DTSTAMP:20260419T103156
CREATED:20251113T182451Z
LAST-MODIFIED:20260418T175252Z
UID:10000106-1818095400-1818106200@minnestar.org
SUMMARY:Game.wav Audio Meetup
DESCRIPTION:Discussions and deep dives on game audio.
URL:https://minnestar.org/calendar2/game-wav-audio-meetup-january-2026-19/
LOCATION:13100 College View Dr room h183\, 13100 College View Drive\, #room h183\, Eden Prairie\, MN\, 55347\, United States
ATTACH;FMTTYPE=image/jpeg:https://minnestar.org/wp-content/uploads/2025/11/b0b24382f44a37a69ad4313d82ceae78.jpg
END:VEVENT
BEGIN:VEVENT
DTSTART;TZID=America/Chicago:20270909T183000
DTEND;TZID=America/Chicago:20270909T213000
DTSTAMP:20260419T103156
CREATED:20251113T182455Z
LAST-MODIFIED:20260418T175252Z
UID:10000107-1820514600-1820525400@minnestar.org
SUMMARY:Game.wav Audio Meetup
DESCRIPTION:Discussions and deep dives on game audio.
URL:https://minnestar.org/calendar2/game-wav-audio-meetup-january-2026-20/
LOCATION:13100 College View Dr room h183\, 13100 College View Drive\, #room h183\, Eden Prairie\, MN\, 55347\, United States
ATTACH;FMTTYPE=image/jpeg:https://minnestar.org/wp-content/uploads/2025/11/b0b24382f44a37a69ad4313d82ceae78.jpg
END:VEVENT
BEGIN:VEVENT
DTSTART;TZID=America/Chicago:20271014T183000
DTEND;TZID=America/Chicago:20271014T213000
DTSTAMP:20260419T103156
CREATED:20251113T182456Z
LAST-MODIFIED:20260418T175252Z
UID:10000108-1823538600-1823549400@minnestar.org
SUMMARY:Game.wav Audio Meetup
DESCRIPTION:Discussions and deep dives on game audio.
URL:https://minnestar.org/calendar2/game-wav-audio-meetup-january-2026-21/
LOCATION:13100 College View Dr room h183\, 13100 College View Drive\, #room h183\, Eden Prairie\, MN\, 55347\, United States
ATTACH;FMTTYPE=image/jpeg:https://minnestar.org/wp-content/uploads/2025/11/b0b24382f44a37a69ad4313d82ceae78.jpg
END:VEVENT
BEGIN:VEVENT
DTSTART;TZID=America/Chicago:20271111T183000
DTEND;TZID=America/Chicago:20271111T213000
DTSTAMP:20260419T103156
CREATED:20251113T182458Z
LAST-MODIFIED:20260418T175252Z
UID:10000109-1825957800-1825968600@minnestar.org
SUMMARY:Game.wav Audio Meetup
DESCRIPTION:Discussions and deep dives on game audio.
URL:https://minnestar.org/calendar2/game-wav-audio-meetup-january-2026-22/
LOCATION:13100 College View Dr room h183\, 13100 College View Drive\, #room h183\, Eden Prairie\, MN\, 55347\, United States
ATTACH;FMTTYPE=image/jpeg:https://minnestar.org/wp-content/uploads/2025/11/b0b24382f44a37a69ad4313d82ceae78.jpg
END:VEVENT
END:VCALENDAR