BEGIN:VCALENDAR
VERSION:2.0
PRODID:-//Minnestar - ECPv6.14.2//NONSGML v1.0//EN
CALSCALE:GREGORIAN
METHOD:PUBLISH
X-ORIGINAL-URL:https://minnestar.org
X-WR-CALDESC:Events for Minnestar
REFRESH-INTERVAL;VALUE=DURATION:PT1H
X-Robots-Tag:noindex
X-PUBLISHED-TTL:PT1H
BEGIN:VTIMEZONE
TZID:America/Chicago
BEGIN:DAYLIGHT
TZOFFSETFROM:-0600
TZOFFSETTO:-0500
TZNAME:CDT
DTSTART:20260308T080000
END:DAYLIGHT
BEGIN:STANDARD
TZOFFSETFROM:-0500
TZOFFSETTO:-0600
TZNAME:CST
DTSTART:20261101T070000
END:STANDARD
BEGIN:DAYLIGHT
TZOFFSETFROM:-0600
TZOFFSETTO:-0500
TZNAME:CDT
DTSTART:20270314T080000
END:DAYLIGHT
BEGIN:STANDARD
TZOFFSETFROM:-0500
TZOFFSETTO:-0600
TZNAME:CST
DTSTART:20271107T070000
END:STANDARD
END:VTIMEZONE
BEGIN:VEVENT
DTSTART;TZID=America/Chicago:20261021T183000
DTEND;TZID=America/Chicago:20261021T213000
DTSTAMP:20260425T090102
CREATED:20251112T180834Z
LAST-MODIFIED:20260424T175440Z
UID:10000076-1792607400-1792618200@minnestar.org
SUMMARY:Twin Cities Playtest
DESCRIPTION:Hosted by IGDA Twin Cities\, an evening of in-development games hosted at Noble Robot and streamed on YouTube!
URL:https://minnestar.org/calendar2/twin-cities-playtest-15/
LOCATION:Noble Robot\, 326 East Hennepin Avenue\, #206\, Minneapolis\, MN\, 55414\, United States
ATTACH;FMTTYPE=image/jpeg:https://minnestar.org/wp-content/uploads/2025/05/34760a8423f837ff6b4aeacbfacbc5fd-1.jpg
END:VEVENT
BEGIN:VEVENT
DTSTART;TZID=America/Chicago:20261104T183000
DTEND;TZID=America/Chicago:20261104T213000
DTSTAMP:20260425T090102
CREATED:20251117T190953Z
LAST-MODIFIED:20260424T175443Z
UID:10000126-1793817000-1793827800@minnestar.org
SUMMARY:Jam Night!
DESCRIPTION:An open co-working night for creatives of all types! Bring something to work on\, and enjoy the company of designers\, developers\, and more!
URL:https://minnestar.org/calendar2/jam-night-17/
LOCATION:Noble Robot\, 326 East Hennepin Avenue\, #206\, Minneapolis\, MN\, 55414\, United States
ATTACH;FMTTYPE=image/jpeg:https://minnestar.org/wp-content/uploads/2025/11/cd7ef490d8fc3242f1f36d9ed93137a2.jpg
END:VEVENT
BEGIN:VEVENT
DTSTART;TZID=America/Chicago:20261104T183000
DTEND;TZID=America/Chicago:20261104T213000
DTSTAMP:20260425T090102
CREATED:20251117T190954Z
LAST-MODIFIED:20251117T190954Z
UID:10000134-1793817000-1793827800@minnestar.org
SUMMARY:Jam Night!
DESCRIPTION:An open co-working night for creatives of all types! Bring something to work on\, and enjoy the company of designers\, developers\, and more!
URL:https://minnestar.org/calendar2/jam-night-18/
LOCATION:Noble Robot\, 326 East Hennepin Avenue\, #206\, Minneapolis\, MN\, 55414\, United States
ATTACH;FMTTYPE=image/jpeg:https://minnestar.org/wp-content/uploads/2025/11/cd7ef490d8fc3242f1f36d9ed93137a2.jpg
END:VEVENT
BEGIN:VEVENT
DTSTART;TZID=America/Chicago:20270106T183000
DTEND;TZID=America/Chicago:20270106T213000
DTSTAMP:20260425T090102
CREATED:20251117T190954Z
LAST-MODIFIED:20260424T175443Z
UID:10000127-1799260200-1799271000@minnestar.org
SUMMARY:Jam Night!
DESCRIPTION:An open co-working night for creatives of all types! Bring something to work on\, and enjoy the company of designers\, developers\, and more!
URL:https://minnestar.org/calendar2/jam-night-19/
LOCATION:Noble Robot\, 326 East Hennepin Avenue\, #206\, Minneapolis\, MN\, 55414\, United States
ATTACH;FMTTYPE=image/jpeg:https://minnestar.org/wp-content/uploads/2025/11/cd7ef490d8fc3242f1f36d9ed93137a2.jpg
END:VEVENT
BEGIN:VEVENT
DTSTART;TZID=America/Chicago:20270120T183000
DTEND;TZID=America/Chicago:20270120T213000
DTSTAMP:20260425T090102
CREATED:20251112T180836Z
LAST-MODIFIED:20260424T175441Z
UID:10000077-1800469800-1800480600@minnestar.org
SUMMARY:Twin Cities Playtest
DESCRIPTION:Hosted by IGDA Twin Cities\, an evening of in-development games hosted at Noble Robot and streamed on YouTube!
URL:https://minnestar.org/calendar2/twin-cities-playtest-16/
LOCATION:Noble Robot\, 326 East Hennepin Avenue\, #206\, Minneapolis\, MN\, 55414\, United States
ATTACH;FMTTYPE=image/jpeg:https://minnestar.org/wp-content/uploads/2025/05/34760a8423f837ff6b4aeacbfacbc5fd-1.jpg
END:VEVENT
BEGIN:VEVENT
DTSTART;TZID=America/Chicago:20270203T183000
DTEND;TZID=America/Chicago:20270203T213000
DTSTAMP:20260425T090102
CREATED:20251117T190956Z
LAST-MODIFIED:20260424T175443Z
UID:10000128-1801679400-1801690200@minnestar.org
SUMMARY:Jam Night!
DESCRIPTION:An open co-working night for creatives of all types! Bring something to work on\, and enjoy the company of designers\, developers\, and more!
URL:https://minnestar.org/calendar2/jam-night-20/
LOCATION:Noble Robot\, 326 East Hennepin Avenue\, #206\, Minneapolis\, MN\, 55414\, United States
ATTACH;FMTTYPE=image/jpeg:https://minnestar.org/wp-content/uploads/2025/11/cd7ef490d8fc3242f1f36d9ed93137a2.jpg
END:VEVENT
BEGIN:VEVENT
DTSTART;TZID=America/Chicago:20270217T183000
DTEND;TZID=America/Chicago:20270217T213000
DTSTAMP:20260425T090102
CREATED:20251112T180839Z
LAST-MODIFIED:20260424T175441Z
UID:10000078-1802889000-1802899800@minnestar.org
SUMMARY:Twin Cities Playtest
DESCRIPTION:Hosted by IGDA Twin Cities\, an evening of in-development games hosted at Noble Robot and streamed on YouTube!
URL:https://minnestar.org/calendar2/twin-cities-playtest-17/
LOCATION:Noble Robot\, 326 East Hennepin Avenue\, #206\, Minneapolis\, MN\, 55414\, United States
ATTACH;FMTTYPE=image/jpeg:https://minnestar.org/wp-content/uploads/2025/05/34760a8423f837ff6b4aeacbfacbc5fd-1.jpg
END:VEVENT
BEGIN:VEVENT
DTSTART;TZID=America/Chicago:20270303T183000
DTEND;TZID=America/Chicago:20270303T213000
DTSTAMP:20260425T090102
CREATED:20251117T190958Z
LAST-MODIFIED:20260424T175443Z
UID:10000129-1804098600-1804109400@minnestar.org
SUMMARY:Jam Night!
DESCRIPTION:An open co-working night for creatives of all types! Bring something to work on\, and enjoy the company of designers\, developers\, and more!
URL:https://minnestar.org/calendar2/jam-night-21/
LOCATION:Noble Robot\, 326 East Hennepin Avenue\, #206\, Minneapolis\, MN\, 55414\, United States
ATTACH;FMTTYPE=image/jpeg:https://minnestar.org/wp-content/uploads/2025/11/cd7ef490d8fc3242f1f36d9ed93137a2.jpg
END:VEVENT
BEGIN:VEVENT
DTSTART;TZID=America/Chicago:20270317T183000
DTEND;TZID=America/Chicago:20270317T213000
DTSTAMP:20260425T090102
CREATED:20251112T180841Z
LAST-MODIFIED:20260424T175441Z
UID:10000079-1805308200-1805319000@minnestar.org
SUMMARY:Twin Cities Playtest
DESCRIPTION:Hosted by IGDA Twin Cities\, an evening of in-development games hosted at Noble Robot and streamed on YouTube!
URL:https://minnestar.org/calendar2/twin-cities-playtest-18/
LOCATION:Noble Robot\, 326 East Hennepin Avenue\, #206\, Minneapolis\, MN\, 55414\, United States
ATTACH;FMTTYPE=image/jpeg:https://minnestar.org/wp-content/uploads/2025/05/34760a8423f837ff6b4aeacbfacbc5fd-1.jpg
END:VEVENT
BEGIN:VEVENT
DTSTART;TZID=America/Chicago:20270407T183000
DTEND;TZID=America/Chicago:20270407T213000
DTSTAMP:20260425T090102
CREATED:20251117T191002Z
LAST-MODIFIED:20260424T175444Z
UID:10000130-1807122600-1807133400@minnestar.org
SUMMARY:Jam Night!
DESCRIPTION:An open co-working night for creatives of all types! Bring something to work on\, and enjoy the company of designers\, developers\, and more!
URL:https://minnestar.org/calendar2/jam-night-22/
LOCATION:Noble Robot\, 326 East Hennepin Avenue\, #206\, Minneapolis\, MN\, 55414\, United States
ATTACH;FMTTYPE=image/jpeg:https://minnestar.org/wp-content/uploads/2025/11/cd7ef490d8fc3242f1f36d9ed93137a2.jpg
END:VEVENT
BEGIN:VEVENT
DTSTART;TZID=America/Chicago:20270407T183000
DTEND;TZID=America/Chicago:20270407T213000
DTSTAMP:20260425T090102
CREATED:20251117T191007Z
LAST-MODIFIED:20251117T191007Z
UID:10000135-1807122600-1807133400@minnestar.org
SUMMARY:Jam Night!
DESCRIPTION:An open co-working night for creatives of all types! Bring something to work on\, and enjoy the company of designers\, developers\, and more!
URL:https://minnestar.org/calendar2/jam-night-23/
LOCATION:Noble Robot\, 326 East Hennepin Avenue\, #206\, Minneapolis\, MN\, 55414\, United States
ATTACH;FMTTYPE=image/jpeg:https://minnestar.org/wp-content/uploads/2025/11/cd7ef490d8fc3242f1f36d9ed93137a2.jpg
END:VEVENT
BEGIN:VEVENT
DTSTART;TZID=America/Chicago:20270421T183000
DTEND;TZID=America/Chicago:20270421T213000
DTSTAMP:20260425T090102
CREATED:20251112T180843Z
LAST-MODIFIED:20260424T175441Z
UID:10000080-1808332200-1808343000@minnestar.org
SUMMARY:Twin Cities Playtest
DESCRIPTION:Hosted by IGDA Twin Cities\, an evening of in-development games hosted at Noble Robot and streamed on YouTube!
URL:https://minnestar.org/calendar2/twin-cities-playtest-19/
LOCATION:Noble Robot\, 326 East Hennepin Avenue\, #206\, Minneapolis\, MN\, 55414\, United States
ATTACH;FMTTYPE=image/jpeg:https://minnestar.org/wp-content/uploads/2025/05/34760a8423f837ff6b4aeacbfacbc5fd-1.jpg
END:VEVENT
BEGIN:VEVENT
DTSTART;TZID=America/Chicago:20270505T183000
DTEND;TZID=America/Chicago:20270505T213000
DTSTAMP:20260425T090102
CREATED:20251117T191007Z
LAST-MODIFIED:20260424T175444Z
UID:10000131-1809541800-1809552600@minnestar.org
SUMMARY:Jam Night!
DESCRIPTION:An open co-working night for creatives of all types! Bring something to work on\, and enjoy the company of designers\, developers\, and more!
URL:https://minnestar.org/calendar2/jam-night-24/
LOCATION:Noble Robot\, 326 East Hennepin Avenue\, #206\, Minneapolis\, MN\, 55414\, United States
ATTACH;FMTTYPE=image/jpeg:https://minnestar.org/wp-content/uploads/2025/11/cd7ef490d8fc3242f1f36d9ed93137a2.jpg
END:VEVENT
BEGIN:VEVENT
DTSTART;TZID=America/Chicago:20270505T183000
DTEND;TZID=America/Chicago:20270505T213000
DTSTAMP:20260425T090102
CREATED:20251117T191008Z
LAST-MODIFIED:20251117T191008Z
UID:10000136-1809541800-1809552600@minnestar.org
SUMMARY:Jam Night!
DESCRIPTION:An open co-working night for creatives of all types! Bring something to work on\, and enjoy the company of designers\, developers\, and more!
URL:https://minnestar.org/calendar2/jam-night-25/
LOCATION:Noble Robot\, 326 East Hennepin Avenue\, #206\, Minneapolis\, MN\, 55414\, United States
ATTACH;FMTTYPE=image/jpeg:https://minnestar.org/wp-content/uploads/2025/11/cd7ef490d8fc3242f1f36d9ed93137a2.jpg
END:VEVENT
BEGIN:VEVENT
DTSTART;TZID=America/Chicago:20270519T183000
DTEND;TZID=America/Chicago:20270519T213000
DTSTAMP:20260425T090102
CREATED:20251112T180845Z
LAST-MODIFIED:20260424T175439Z
UID:10000081-1810751400-1810762200@minnestar.org
SUMMARY:Twin Cities Playtest
DESCRIPTION:Hosted by IGDA Twin Cities\, an evening of in-development games hosted at Noble Robot and streamed on YouTube!
URL:https://minnestar.org/calendar2/twin-cities-playtest-20/
LOCATION:Noble Robot\, 326 East Hennepin Avenue\, #206\, Minneapolis\, MN\, 55414\, United States
ATTACH;FMTTYPE=image/jpeg:https://minnestar.org/wp-content/uploads/2025/05/34760a8423f837ff6b4aeacbfacbc5fd-1.jpg
END:VEVENT
BEGIN:VEVENT
DTSTART;TZID=America/Chicago:20270602T183000
DTEND;TZID=America/Chicago:20270602T213000
DTSTAMP:20260425T090102
CREATED:20251117T191009Z
LAST-MODIFIED:20260424T175444Z
UID:10000132-1811961000-1811971800@minnestar.org
SUMMARY:Jam Night!
DESCRIPTION:An open co-working night for creatives of all types! Bring something to work on\, and enjoy the company of designers\, developers\, and more!
URL:https://minnestar.org/calendar2/jam-night-26/
LOCATION:Noble Robot\, 326 East Hennepin Avenue\, #206\, Minneapolis\, MN\, 55414\, United States
ATTACH;FMTTYPE=image/jpeg:https://minnestar.org/wp-content/uploads/2025/11/cd7ef490d8fc3242f1f36d9ed93137a2.jpg
END:VEVENT
BEGIN:VEVENT
DTSTART;TZID=America/Chicago:20270602T183000
DTEND;TZID=America/Chicago:20270602T213000
DTSTAMP:20260425T090102
CREATED:20251117T191010Z
LAST-MODIFIED:20251117T191010Z
UID:10000137-1811961000-1811971800@minnestar.org
SUMMARY:Jam Night!
DESCRIPTION:An open co-working night for creatives of all types! Bring something to work on\, and enjoy the company of designers\, developers\, and more!
URL:https://minnestar.org/calendar2/jam-night-27/
LOCATION:Noble Robot\, 326 East Hennepin Avenue\, #206\, Minneapolis\, MN\, 55414\, United States
ATTACH;FMTTYPE=image/jpeg:https://minnestar.org/wp-content/uploads/2025/11/cd7ef490d8fc3242f1f36d9ed93137a2.jpg
END:VEVENT
BEGIN:VEVENT
DTSTART;TZID=America/Chicago:20270616T183000
DTEND;TZID=America/Chicago:20270616T213000
DTSTAMP:20260425T090102
CREATED:20251112T180847Z
LAST-MODIFIED:20260424T175439Z
UID:10000082-1813170600-1813181400@minnestar.org
SUMMARY:Twin Cities Playtest
DESCRIPTION:Hosted by IGDA Twin Cities\, an evening of in-development games hosted at Noble Robot and streamed on YouTube!
URL:https://minnestar.org/calendar2/twin-cities-playtest-21/
LOCATION:Noble Robot\, 326 East Hennepin Avenue\, #206\, Minneapolis\, MN\, 55414\, United States
ATTACH;FMTTYPE=image/jpeg:https://minnestar.org/wp-content/uploads/2025/05/34760a8423f837ff6b4aeacbfacbc5fd-1.jpg
END:VEVENT
BEGIN:VEVENT
DTSTART;TZID=America/Chicago:20270707T183000
DTEND;TZID=America/Chicago:20270707T213000
DTSTAMP:20260425T090102
CREATED:20251117T191010Z
LAST-MODIFIED:20260424T175444Z
UID:10000133-1814985000-1814995800@minnestar.org
SUMMARY:Jam Night!
DESCRIPTION:An open co-working night for creatives of all types! Bring something to work on\, and enjoy the company of designers\, developers\, and more!
URL:https://minnestar.org/calendar2/jam-night-28/
LOCATION:Noble Robot\, 326 East Hennepin Avenue\, #206\, Minneapolis\, MN\, 55414\, United States
ATTACH;FMTTYPE=image/jpeg:https://minnestar.org/wp-content/uploads/2025/11/cd7ef490d8fc3242f1f36d9ed93137a2.jpg
END:VEVENT
BEGIN:VEVENT
DTSTART;TZID=America/Chicago:20270707T183000
DTEND;TZID=America/Chicago:20270707T213000
DTSTAMP:20260425T090102
CREATED:20251117T191012Z
LAST-MODIFIED:20251117T191012Z
UID:10000138-1814985000-1814995800@minnestar.org
SUMMARY:Jam Night!
DESCRIPTION:An open co-working night for creatives of all types! Bring something to work on\, and enjoy the company of designers\, developers\, and more!
URL:https://minnestar.org/calendar2/jam-night-29/
LOCATION:Noble Robot\, 326 East Hennepin Avenue\, #206\, Minneapolis\, MN\, 55414\, United States
ATTACH;FMTTYPE=image/jpeg:https://minnestar.org/wp-content/uploads/2025/11/cd7ef490d8fc3242f1f36d9ed93137a2.jpg
END:VEVENT
BEGIN:VEVENT
DTSTART;TZID=America/Chicago:20270721T183000
DTEND;TZID=America/Chicago:20270721T213000
DTSTAMP:20260425T090102
CREATED:20251112T180849Z
LAST-MODIFIED:20260424T175439Z
UID:10000083-1816194600-1816205400@minnestar.org
SUMMARY:Twin Cities Playtest
DESCRIPTION:Hosted by IGDA Twin Cities\, an evening of in-development games hosted at Noble Robot and streamed on YouTube!
URL:https://minnestar.org/calendar2/twin-cities-playtest-22/
LOCATION:Noble Robot\, 326 East Hennepin Avenue\, #206\, Minneapolis\, MN\, 55414\, United States
ATTACH;FMTTYPE=image/jpeg:https://minnestar.org/wp-content/uploads/2025/05/34760a8423f837ff6b4aeacbfacbc5fd-1.jpg
END:VEVENT
BEGIN:VEVENT
DTSTART;TZID=America/Chicago:20270804T183000
DTEND;TZID=America/Chicago:20270804T213000
DTSTAMP:20260425T090102
CREATED:20251117T191018Z
LAST-MODIFIED:20260424T175444Z
UID:10000139-1817404200-1817415000@minnestar.org
SUMMARY:Jam Night!
DESCRIPTION:An open co-working night for creatives of all types! Bring something to work on\, and enjoy the company of designers\, developers\, and more!
URL:https://minnestar.org/calendar2/jam-night-30/
LOCATION:Noble Robot\, 326 East Hennepin Avenue\, #206\, Minneapolis\, MN\, 55414\, United States
ATTACH;FMTTYPE=image/jpeg:https://minnestar.org/wp-content/uploads/2025/11/cd7ef490d8fc3242f1f36d9ed93137a2.jpg
END:VEVENT
BEGIN:VEVENT
DTSTART;TZID=America/Chicago:20270818T183000
DTEND;TZID=America/Chicago:20270818T213000
DTSTAMP:20260425T090102
CREATED:20251112T180851Z
LAST-MODIFIED:20260424T175439Z
UID:10000084-1818613800-1818624600@minnestar.org
SUMMARY:Twin Cities Playtest
DESCRIPTION:Hosted by IGDA Twin Cities\, an evening of in-development games hosted at Noble Robot and streamed on YouTube!
URL:https://minnestar.org/calendar2/twin-cities-playtest-23/
LOCATION:Noble Robot\, 326 East Hennepin Avenue\, #206\, Minneapolis\, MN\, 55414\, United States
ATTACH;FMTTYPE=image/jpeg:https://minnestar.org/wp-content/uploads/2025/05/34760a8423f837ff6b4aeacbfacbc5fd-1.jpg
END:VEVENT
BEGIN:VEVENT
DTSTART;TZID=America/Chicago:20270901T183000
DTEND;TZID=America/Chicago:20270901T213000
DTSTAMP:20260425T090102
CREATED:20251117T191023Z
LAST-MODIFIED:20260424T175445Z
UID:10000140-1819823400-1819834200@minnestar.org
SUMMARY:Jam Night!
DESCRIPTION:An open co-working night for creatives of all types! Bring something to work on\, and enjoy the company of designers\, developers\, and more!
URL:https://minnestar.org/calendar2/jam-night-31/
LOCATION:Noble Robot\, 326 East Hennepin Avenue\, #206\, Minneapolis\, MN\, 55414\, United States
ATTACH;FMTTYPE=image/jpeg:https://minnestar.org/wp-content/uploads/2025/11/cd7ef490d8fc3242f1f36d9ed93137a2.jpg
END:VEVENT
BEGIN:VEVENT
DTSTART;TZID=America/Chicago:20270915T183000
DTEND;TZID=America/Chicago:20270915T213000
DTSTAMP:20260425T090102
CREATED:20251112T180853Z
LAST-MODIFIED:20260424T175439Z
UID:10000085-1821033000-1821043800@minnestar.org
SUMMARY:Twin Cities Playtest
DESCRIPTION:Hosted by IGDA Twin Cities\, an evening of in-development games hosted at Noble Robot and streamed on YouTube!
URL:https://minnestar.org/calendar2/twin-cities-playtest-24/
LOCATION:Noble Robot\, 326 East Hennepin Avenue\, #206\, Minneapolis\, MN\, 55414\, United States
ATTACH;FMTTYPE=image/jpeg:https://minnestar.org/wp-content/uploads/2025/05/34760a8423f837ff6b4aeacbfacbc5fd-1.jpg
END:VEVENT
BEGIN:VEVENT
DTSTART;TZID=America/Chicago:20271006T183000
DTEND;TZID=America/Chicago:20271006T213000
DTSTAMP:20260425T090102
CREATED:20251117T191025Z
LAST-MODIFIED:20260424T175445Z
UID:10000141-1822847400-1822858200@minnestar.org
SUMMARY:Jam Night!
DESCRIPTION:An open co-working night for creatives of all types! Bring something to work on\, and enjoy the company of designers\, developers\, and more!
URL:https://minnestar.org/calendar2/jam-night-32/
LOCATION:Noble Robot\, 326 East Hennepin Avenue\, #206\, Minneapolis\, MN\, 55414\, United States
ATTACH;FMTTYPE=image/jpeg:https://minnestar.org/wp-content/uploads/2025/11/cd7ef490d8fc3242f1f36d9ed93137a2.jpg
END:VEVENT
BEGIN:VEVENT
DTSTART;TZID=America/Chicago:20271020T183000
DTEND;TZID=America/Chicago:20271020T213000
DTSTAMP:20260425T090102
CREATED:20251112T180855Z
LAST-MODIFIED:20260424T175439Z
UID:10000086-1824057000-1824067800@minnestar.org
SUMMARY:Twin Cities Playtest
DESCRIPTION:Hosted by IGDA Twin Cities\, an evening of in-development games hosted at Noble Robot and streamed on YouTube!
URL:https://minnestar.org/calendar2/twin-cities-playtest-25/
LOCATION:Noble Robot\, 326 East Hennepin Avenue\, #206\, Minneapolis\, MN\, 55414\, United States
ATTACH;FMTTYPE=image/jpeg:https://minnestar.org/wp-content/uploads/2025/05/34760a8423f837ff6b4aeacbfacbc5fd-1.jpg
END:VEVENT
BEGIN:VEVENT
DTSTART;TZID=America/Chicago:20271103T183000
DTEND;TZID=America/Chicago:20271103T213000
DTSTAMP:20260425T090102
CREATED:20251117T191026Z
LAST-MODIFIED:20260424T175445Z
UID:10000142-1825266600-1825277400@minnestar.org
SUMMARY:Jam Night!
DESCRIPTION:An open co-working night for creatives of all types! Bring something to work on\, and enjoy the company of designers\, developers\, and more!
URL:https://minnestar.org/calendar2/jam-night-33/
LOCATION:Noble Robot\, 326 East Hennepin Avenue\, #206\, Minneapolis\, MN\, 55414\, United States
ATTACH;FMTTYPE=image/jpeg:https://minnestar.org/wp-content/uploads/2025/11/cd7ef490d8fc3242f1f36d9ed93137a2.jpg
END:VEVENT
END:VCALENDAR